BEGIN:VCALENDAR
VERSION:2.0
PRODID:-//RIGHTHERE//CALENDARIZE IT V3.2//EN
BEGIN:VEVENT
UID:5890-events@hiltonps.wa.edu.au
DTSTART;VALUE=DATE:20210209
DTEND;VALUE=DATE:20210209
DTSTAMP:20210215T144605Z
SUMMARY:Edudance – PP – Rm6
RDATE;VALUE=PERIOD:20210216T000000/20210216T000000,20210223T000000/20210223
 T000000,20210302T000000/20210302T000000,20210309T000000/20210309T000000,20
 210316T000000/20210316T000000,20210323T000000/20210323T000000,20210330T000
 000/20210330T000000
URL:https://hiltonps.wa.edu.au/events/edudance-pp-rm6/
END:VEVENT
END:VCALENDAR