BEGIN:VCALENDAR
VERSION:2.0
PRODID:-//RIGHTHERE//CALENDARIZE IT V3.2//EN
BEGIN:VEVENT
UID:5892-events@hiltonps.wa.edu.au
DTSTART;VALUE=DATE:20210212
DTEND;VALUE=DATE:20210212
DTSTAMP:20210215T144730Z
SUMMARY:Edudance – Rm 7 & 9
RDATE;VALUE=PERIOD:20210219T000000/20210219T000000,20210226T000000/20210226
 T000000,20210305T000000/20210305T000000,20210312T000000/20210312T000000,20
 210319T000000/20210319T000000,20210326T000000/20210326T000000
URL:https://hiltonps.wa.edu.au/events/edudance-rm-7-9/
END:VEVENT
END:VCALENDAR