BEGIN:VCALENDAR
VERSION:2.0
PRODID:-//RIGHTHERE//CALENDARIZE IT V3.2//EN
BEGIN:VEVENT
UID:5894-events@hiltonps.wa.edu.au
DTSTART;VALUE=DATE:20210210
DTEND;VALUE=DATE:20210210
DTSTAMP:20210215T144847Z
SUMMARY:Staff Meeting
RDATE;VALUE=PERIOD:20210217T000000/20210217T000000,20210224T000000/20210224
 T000000,20210303T000000/20210303T000000,20210310T000000/20210310T000000,20
 210317T000000/20210317T000000,20210324T000000/20210324T000000
URL:https://hiltonps.wa.edu.au/events/staff-meeting-2/
END:VEVENT
END:VCALENDAR