BEGIN:VCALENDAR
VERSION:2.0
PRODID:-//RIGHTHERE//CALENDARIZE IT V3.2//EN
BEGIN:VEVENT
UID:5898-events@hiltonps.wa.edu.au
DTSTART:20210222T103000Z
DTEND:20210222T120000Z
DTSTAMP:20210215T145241Z
SUMMARY:P&C Meeting
URL:https://hiltonps.wa.edu.au/events/pc-meeting-4/
LOCATION:Library
END:VEVENT
END:VCALENDAR