BEGIN:VCALENDAR
VERSION:2.0
PRODID:-//RIGHTHERE//CALENDARIZE IT V3.2//EN
BEGIN:VEVENT
UID:5900-events@hiltonps.wa.edu.au
DTSTART:20210225T071000Z
DTEND:20210225T081000Z
DTSTAMP:20210215T145326Z
SUMMARY:Grounds Committee Meeting
URL:https://hiltonps.wa.edu.au/events/grounds-committee-meeting-5/
LOCATION:Yarning Circle
END:VEVENT
END:VCALENDAR