BEGIN:VCALENDAR
VERSION:2.0
PRODID:-//RIGHTHERE//CALENDARIZE IT V3.2//EN
BEGIN:VEVENT
UID:5902-events@hiltonps.wa.edu.au
DTSTART;VALUE=DATE:20210301
DTEND;VALUE=DATE:20210301
DTSTAMP:20210215T145422Z
SUMMARY:Public Holiday
URL:https://hiltonps.wa.edu.au/events/public-holiday/
END:VEVENT
END:VCALENDAR